BEGIN:VCALENDAR
VERSION:2.0
PRODID:-//ExpressionEngine Easy iCalendar plugin//NONSGML v2.0.0//EN
X-WR-TIMEZONE:America/Indiana/Indianapolis
X-WR-CALNAME:Upcoming Auctions
BEGIN:VEVENT
UID:146766
DTSTAMP:20250819T155500
DTSTART:20250819T155500
DTEND:20250902T200000
SUMMARY:Cold Springs Gallery #2137
LOCATION:1210 Cold Springs Rd\, Stuarts Draft\, VA 24477\, US
DESCRIPTION:NEW tools\, Sterling silver\, Jewelry\, and LOTS of new tools! 
 Click\, bid\, smile. 
URL:https://www.enlistedauctions.com/auctions/detail/bw146766
SEQUENCE:1
END:VEVENT
END:VCALENDAR