BEGIN:VCALENDAR
VERSION:2.0
PRODID:-//ExpressionEngine Easy iCalendar plugin//NONSGML v2.0.0//EN
X-WR-TIMEZONE:America/New_York
X-WR-CALNAME:Upcoming Auctions
BEGIN:VEVENT
UID:146452
DTSTAMP:20250814T132900
DTSTART:20250814T132900
DTEND:20250825T200000
SUMMARY:Tinkling Spring Gallery #236
LOCATION:2177 Tinkling Spring Rd\, Stuarts Draft\, VA 24477\, US
DESCRIPTION:LOCATION: 2177 Tinkling Spring Rd\, Stuarts Draft\, VA 24477 
 PREVIEW: Any Monday from 3 PM - 6 PM or any Tuesday from 8 
 AM - 10 AM & 3 PM - 6 PM. PICKUP: Tuesday\, August 26th \, 2
 025\, from 8 AM - 10 AM and 3 PM - 6 PM Contact: Office\, (540
 ) 337-3446\, info@enlistedauctions.com Buyer's Premium: 10% 3
 % card processing fee Shipping is available. Items are shipp
 ed through UPS\, zip code is 24477. Contact elizabeth@enliste
 dauctions.com for shipping. All items are sold AS IS
URL:https://www.enlistedauctions.com/auctions/detail/bw146452
SEQUENCE:1
END:VEVENT
END:VCALENDAR