BEGIN:VCALENDAR
VERSION:2.0
PRODID:-//ExpressionEngine Easy iCalendar plugin//NONSGML v2.0.0//EN
X-WR-TIMEZONE:America/Indiana/Indianapolis
X-WR-CALNAME:Upcoming Auctions
BEGIN:VEVENT
UID:146313
DTSTAMP:20250812T152900
DTSTART:20250812T152900
DTEND:20250826T200000
SUMMARY:Cold Springs Gallery #2136
LOCATION:1210 Cold Springs Rd\, Stuarts Draft\, VA 24477\, US
DESCRIPTION:Sleep Number king bed\, bedroom sets\, tools\, vintage glass\, b
 ookcases\, garden windmill and many more items for your biddi
 ng pleasure! 
URL:https://www.enlistedauctions.com/auctions/detail/bw146313
SEQUENCE:1
END:VEVENT
END:VCALENDAR