BEGIN:VCALENDAR
VERSION:2.0
PRODID:-//ExpressionEngine Easy iCalendar plugin//NONSGML v2.0.0//EN
X-WR-TIMEZONE:America/Indiana/Indianapolis
X-WR-CALNAME:Upcoming Auctions
BEGIN:VEVENT
UID:146153
DTSTAMP:20250811T074000
DTSTART:20250811T074000
DTEND:20250819T194500
SUMMARY:Hidden Treasures Gallery #3135
LOCATION:1210 Cold Springs Rd\, Stuarts Draft\, VA 24477\, US
DESCRIPTION:Nice selection of items. From Hallmark Christmas ornaments t
 o table saws this auction has a little of everything! Longab
 erger\, Temp-Tations\, Vera Bradley bags\, chainsaws\, table saw
 \, generator and more great items selling to the highest bidd
 ers! 
URL:https://www.enlistedauctions.com/auctions/detail/bw146153
SEQUENCE:1
END:VEVENT
END:VCALENDAR