BEGIN:VCALENDAR
VERSION:2.0
PRODID:-//ExpressionEngine Easy iCalendar plugin//NONSGML v2.0.0//EN
X-WR-TIMEZONE:America/New_York
X-WR-CALNAME:Upcoming Auctions
BEGIN:VEVENT
UID:145851
DTSTAMP:20250805T150100
DTSTART:20250805T150100
DTEND:20250818T200000
SUMMARY:Caves Outdoors Liquidation Part #1
LOCATION:2177 Tinkling Spring Rd\, Stuarts Draft\, VA 24477\, US
DESCRIPTION:Cave's Outdoors has closed their doors and we are liquidatin
 g their inventory! Thousands of rounds of ammunition\, Vortex
  Optics\, reloading powder\, fishing supplies along with hunti
 ng and outdoor gear! This is a fantastic opportunity to scor
 e big on the things you need for the upcoming hunting season
 . Bid and win - everything sells! 
URL:https://www.enlistedauctions.com/auctions/detail/bw145851
SEQUENCE:1
END:VEVENT
END:VCALENDAR