BEGIN:VCALENDAR
VERSION:2.0
PRODID:-//ExpressionEngine Easy iCalendar plugin//NONSGML v2.0.0//EN
X-WR-TIMEZONE:America/New_York
X-WR-CALNAME:Upcoming Auctions
BEGIN:VEVENT
UID:145759
DTSTAMP:20250804T143000
DTSTART:20250804T143000
DTEND:20250818T200000
SUMMARY:Tinkling Spring Gallery #235
LOCATION:2177 Tinkling Spring Rd\, Stuarts Draft\, VA 24477\, US
DESCRIPTION:Not a huge auction\, but it's got good stuff! Zero turn mower
 \, Byers' Choice Carolers\, Tom Clark figurines\, king size bed
 room set & more!
URL:https://www.enlistedauctions.com/auctions/detail/bw145759
SEQUENCE:1
END:VEVENT
END:VCALENDAR