BEGIN:VCALENDAR
VERSION:2.0
PRODID:-//ExpressionEngine Easy iCalendar plugin//NONSGML v2.0.0//EN
X-WR-TIMEZONE:America/Indiana/Indianapolis
X-WR-CALNAME:Upcoming Auctions
BEGIN:VEVENT
UID:145709
DTSTAMP:20250804T075100
DTSTART:20250804T075100
DTEND:20250812T194500
SUMMARY:Hidden Treasures Gallery #3134
LOCATION:1210 Cold Springs Rd\, Stuarts Draft\, VA 24477\, US
DESCRIPTION:Samsung refrigerator\, area rugs\, Henkle-Harris bed frame\, hi
 gh boy chest on chest\, John Deere riding mower and more grea
 t items waiting to be discovered! Bid your price today. 
URL:https://www.enlistedauctions.com/auctions/detail/bw145709
SEQUENCE:1
END:VEVENT
END:VCALENDAR