BEGIN:VCALENDAR
VERSION:2.0
PRODID:-//ExpressionEngine Easy iCalendar plugin//NONSGML v2.0.0//EN
X-WR-TIMEZONE:America/New_York
X-WR-CALNAME:Upcoming Auctions
BEGIN:VEVENT
UID:145535
DTSTAMP:20250731T113600
DTSTART:20250731T113600
DTEND:20250811T200000
SUMMARY:Tinkling Spring Gallery #234
LOCATION:2177 Tinkling Spring Rd\, Stuarts Draft\, VA 24477\, US
DESCRIPTION:Waynesboro estate items\, riding mowers\, Grizzly woodworking 
 tools\, motorcycles\, gold rings\, propane tanks and vintage vi
 nyl records are up for bid! 
URL:https://www.enlistedauctions.com/auctions/detail/bw145535
SEQUENCE:1
END:VEVENT
END:VCALENDAR