BEGIN:VCALENDAR
VERSION:2.0
PRODID:-//ExpressionEngine Easy iCalendar plugin//NONSGML v2.0.0//EN
X-WR-TIMEZONE:America/New_York
X-WR-CALNAME:Upcoming Auctions
BEGIN:VEVENT
UID:145474
DTSTAMP:20250730T000000
DTSTART:20250730T000000
DTEND:20250918T190000
SUMMARY:Equipment and Vehicles - September 2025
LOCATION:2402 Stuarts Draft Hwy\, Stuarts Draft\, VA 24477\, US
DESCRIPTION:Don’t miss our September Equipment Auction! Featuring a Ca
 se wheel loader\, aggregate screener\, 5th wheel camper\, tract
 ors\, dump truck\, crane truck\, trailers\, and a box truck—pl
 us more items arriving daily. From heavy machinery to useful
  haulers\, this sale has something for everyone. Bid now!
URL:https://www.enlistedauctions.com/auctions/detail/bw145474
SEQUENCE:1
END:VEVENT
END:VCALENDAR