BEGIN:VCALENDAR
VERSION:2.0
PRODID:-//ExpressionEngine Easy iCalendar plugin//NONSGML v2.0.0//EN
X-WR-TIMEZONE:America/Indiana/Indianapolis
X-WR-CALNAME:Upcoming Auctions
BEGIN:VEVENT
UID:145401
DTSTAMP:20250729T154200
DTSTART:20250729T154200
DTEND:20250812T200000
SUMMARY:Cold Springs Gallery #2134
LOCATION:1210 Cold Springs Rd\, Stuarts Draft\, VA 24477\, US
DESCRIPTION:Vehicles\, Red Mill figurines\, Black Americana collectibles\, 
 antique furniture\, oak dining table\, marbles & many other gr
 eat items from a Staunton estate are up for auction! 
URL:https://www.enlistedauctions.com/auctions/detail/bw145401
SEQUENCE:1
END:VEVENT
END:VCALENDAR