BEGIN:VCALENDAR
VERSION:2.0
PRODID:-//ExpressionEngine Easy iCalendar plugin//NONSGML v2.0.0//EN
X-WR-TIMEZONE:America/Indiana/Indianapolis
X-WR-CALNAME:Upcoming Auctions
BEGIN:VEVENT
UID:145267
DTSTAMP:20250728T075300
DTSTART:20250728T075300
DTEND:20250805T194500
SUMMARY:Hidden Treasures Gallery #3133
LOCATION:1210 Cold Springs Rd\, Stuarts Draft\, VA 24477\, US
DESCRIPTION:Mickey Mantle\, Pete Rose and Pokémon trading cards along wi
 th woodworking tools from DeWalt and Jet. Looking for someth
 ing else? There's furniture\, art work\, Pyrex dishes & other 
 great items! 
URL:https://www.enlistedauctions.com/auctions/detail/bw145267
SEQUENCE:1
END:VEVENT
END:VCALENDAR