BEGIN:VCALENDAR
VERSION:2.0
PRODID:-//ExpressionEngine Easy iCalendar plugin//NONSGML v2.0.0//EN
X-WR-TIMEZONE:America/New_York
X-WR-CALNAME:Upcoming Auctions
BEGIN:VEVENT
UID:145014
DTSTAMP:20250723T123100
DTSTART:20250723T123100
DTEND:20250804T200000
SUMMARY:Tinkling Spring Gallery #233
LOCATION:2177 Tinkling Spring Rd\, Stuarts Draft\, VA 24477\, US
DESCRIPTION:A 2011 Ford Edge\, gun safe\, welding tanks\, map cabinets\, too
 ls\, pet supplies\, costume jewelry and cast iron skillets are
  looking for new homes. Bid your price! 
URL:https://www.enlistedauctions.com/auctions/detail/bw145014
SEQUENCE:1
END:VEVENT
END:VCALENDAR