BEGIN:VCALENDAR
VERSION:2.0
PRODID:-//ExpressionEngine Easy iCalendar plugin//NONSGML v2.0.0//EN
X-WR-TIMEZONE:America/Indiana/Indianapolis
X-WR-CALNAME:Upcoming Auctions
BEGIN:VEVENT
UID:144922
DTSTAMP:20250722T125700
DTSTART:20250722T125700
DTEND:20250805T200000
SUMMARY:Cold Springs Gallery #2133
LOCATION:1210 Cold Springs Rd\, Stuarts Draft\, VA 24477\, US
DESCRIPTION:Classic Virginia Metalcrafters lamps and bookends\, pocket wa
 tch\, gold rings\, furniture\, mowers and a generator to keep y
 ou cool when everyone else loses power. Bid your price! 
URL:https://www.enlistedauctions.com/auctions/detail/bw144922
SEQUENCE:1
END:VEVENT
END:VCALENDAR