BEGIN:VCALENDAR
VERSION:2.0
PRODID:-//ExpressionEngine Easy iCalendar plugin//NONSGML v2.0.0//EN
X-WR-TIMEZONE:America/Indiana/Indianapolis
X-WR-CALNAME:Upcoming Auctions
BEGIN:VEVENT
UID:144818
DTSTAMP:20250721T074100
DTSTART:20250721T074100
DTEND:20250729T194500
SUMMARY:Hidden Treasures Gallery #3132
LOCATION:1210 Cold Springs Rd\, Stuarts Draft\, VA 24477\, US
DESCRIPTION:Discover hidden treasures! Video games\, bikes\, woodworking t
 ools\, heavy duty shelving\, and vintage comics are selling to
  the highest bidders regardless of price! 
URL:https://www.enlistedauctions.com/auctions/detail/bw144818
SEQUENCE:1
END:VEVENT
END:VCALENDAR