BEGIN:VCALENDAR
VERSION:2.0
PRODID:-//ExpressionEngine Easy iCalendar plugin//NONSGML v2.0.0//EN
X-WR-TIMEZONE:America/New_York
X-WR-CALNAME:Upcoming Auctions
BEGIN:VEVENT
UID:144707
DTSTAMP:20250722T143100
DTSTART:20250722T143100
DTEND:20250805T200000
SUMMARY:Coins and Currency #5133
LOCATION:1210 Cold Springs Rd\, Stuarts Draft\, VA 24477\, US
DESCRIPTION:Another great coin and currency auction for your bidding ple
 asure! Virginia store tokens\, silver dollars and more! 
URL:https://www.enlistedauctions.com/auctions/detail/bw144707
SEQUENCE:1
END:VEVENT
END:VCALENDAR