BEGIN:VCALENDAR
VERSION:2.0
PRODID:-//ExpressionEngine Easy iCalendar plugin//NONSGML v2.0.0//EN
X-WR-TIMEZONE:America/New_York
X-WR-CALNAME:Upcoming Auctions
BEGIN:VEVENT
UID:144634
DTSTAMP:20250716T142500
DTSTART:20250716T142500
DTEND:20250728T200000
SUMMARY:Tinkling Spring Gallery #232
LOCATION:2177 Tinkling Spring Rd\, Stuarts Draft\, VA 24477\, US
DESCRIPTION:A very nice auction full of options! Toyota Highlander\, Leno
 x porcelain figurines\, cast-iron anvil\, antique bear trap\, P
 . Buckley Moss & Linda Patrick prints along with Milwaukee t
 ools and furniture! Bid your price. Everything sells! 
URL:https://www.enlistedauctions.com/auctions/detail/bw144634
SEQUENCE:1
END:VEVENT
END:VCALENDAR