BEGIN:VCALENDAR
VERSION:2.0
PRODID:-//ExpressionEngine Easy iCalendar plugin//NONSGML v2.0.0//EN
X-WR-TIMEZONE:America/Indiana/Indianapolis
X-WR-CALNAME:Upcoming Auctions
BEGIN:VEVENT
UID:144550
DTSTAMP:20250715T151300
DTSTART:20250715T151300
DTEND:20250729T200000
SUMMARY:Cold Springs Gallery #2132
LOCATION:1210 Cold Springs Rd\, Stuarts Draft\, VA 24477\, US
DESCRIPTION:Over 700 lots to choose from! Jim Shore\, Department 56 and B
 yers' Choice Carolers for the collector along with lawn tool
 s\, furniture for the house and other hidden treasures! 
URL:https://www.enlistedauctions.com/auctions/detail/bw144550
SEQUENCE:1
END:VEVENT
END:VCALENDAR