BEGIN:VCALENDAR
VERSION:2.0
PRODID:-//ExpressionEngine Easy iCalendar plugin//NONSGML v2.0.0//EN
X-WR-TIMEZONE:America/New_York
X-WR-CALNAME:Upcoming Auctions
BEGIN:VEVENT
UID:144425
DTSTAMP:20250714T120900
DTSTART:20250714T120900
DTEND:20250807T130000
SUMMARY:Elkton\, VA Real Estate
LOCATION:3942 Fox Mountain Rd\, Elkton\, VA 22827\, US
DESCRIPTION:Opportunity knocks! This 2 bed\, 1 bath home sits on 0.51 acr
 es and includes a shop/storage building. Built in 1952\, it h
 as some original hardwood floors and needs significant updat
 es and repairs throughout.  Opening bid is just $25\,000—a
 nd it sells to the highest bidder regardless of price!
URL:https://www.enlistedauctions.com/auctions/detail/bw144425
SEQUENCE:1
END:VEVENT
END:VCALENDAR