BEGIN:VCALENDAR
VERSION:2.0
PRODID:-//ExpressionEngine Easy iCalendar plugin//NONSGML v2.0.0//EN
X-WR-TIMEZONE:America/Indiana/Indianapolis
X-WR-CALNAME:Upcoming Auctions
BEGIN:VEVENT
UID:144387
DTSTAMP:20250714T073700
DTSTART:20250714T073700
DTEND:20250722T194500
SUMMARY:Hidden Treasures Gallery #3131
LOCATION:1210 Cold Springs Rd\, Stuarts Draft\, VA 24477\, US
DESCRIPTION:14k and 18k gold necklaces\, lamps\, bentwood rocking chair\, c
 lassic bikes\, household furniture\, Pyrex dishes and more!
URL:https://www.enlistedauctions.com/auctions/detail/bw144387
SEQUENCE:1
END:VEVENT
END:VCALENDAR