BEGIN:VCALENDAR
VERSION:2.0
PRODID:-//ExpressionEngine Easy iCalendar plugin//NONSGML v2.0.0//EN
X-WR-TIMEZONE:America/New_York
X-WR-CALNAME:Upcoming Auctions
BEGIN:VEVENT
UID:144277
DTSTAMP:20250710T131400
DTSTART:20250710T131400
DTEND:20250723T200000
SUMMARY:Ammo And Accessories #5231
LOCATION:2177 Tinkling Spring Rd\, Stuarts Draft\, VA 24477\, US
DESCRIPTION:Thousands of rounds of ammunition in a wide variety of calib
 ers. 45\, 9mm\, 7 PRC\, 7mm-08\, 38\, 300\, 270 & more! There's al
 so scopes\, AR upper\, prop guns\, reloading items\, holsters an
 d other accessories! Bid your price - it all sells. 
URL:https://www.enlistedauctions.com/auctions/detail/bw144277
SEQUENCE:1
END:VEVENT
END:VCALENDAR