BEGIN:VCALENDAR
VERSION:2.0
PRODID:-//ExpressionEngine Easy iCalendar plugin//NONSGML v2.0.0//EN
X-WR-TIMEZONE:America/New_York
X-WR-CALNAME:Upcoming Auctions
BEGIN:VEVENT
UID:144276
DTSTAMP:20250710T130600
DTSTART:20250710T130600
DTEND:20250721T200000
SUMMARY:Tinkling Spring Gallery #231
LOCATION:2177 Tinkling Spring Rd\, Stuarts Draft\, VA 24477\, US
DESCRIPTION:Items from the Ron McNemar estate of Fairfield\, VA are up fo
 r auction! Stained glass\, paintings\, antique toys and pewter
  dishes\, pine chests\, and Lionel train sets are a few of the
  highlights! Don't miss your chance to purchase quality item
 s at your price. 
URL:https://www.enlistedauctions.com/auctions/detail/bw144276
SEQUENCE:1
END:VEVENT
END:VCALENDAR