BEGIN:VCALENDAR
VERSION:2.0
PRODID:-//ExpressionEngine Easy iCalendar plugin//NONSGML v2.0.0//EN
X-WR-TIMEZONE:America/New_York
X-WR-CALNAME:Upcoming Auctions
BEGIN:VEVENT
UID:144243
DTSTAMP:20250710T161100
DTSTART:20250710T161100
DTEND:20250723T200000
SUMMARY:Firearms - July 2025
LOCATION:2177 Tinkling Spring Rd\, Stuarts Draft\, VA 24477\, US
DESCRIPTION:We are proud to offer another firearms auction! Firearms fro
 m Winchester\, Remington\, Henry\, Glock\, Smith & Wesson\, Ruger
 \, Daniel Defense\, WWII rifles and handguns\, Aero Precision\, 
 Anderson MFG and Browning are just a few of the over 270 fir
 earms available.
URL:https://www.enlistedauctions.com/auctions/detail/bw144243
SEQUENCE:1
END:VEVENT
END:VCALENDAR