BEGIN:VCALENDAR
VERSION:2.0
PRODID:-//ExpressionEngine Easy iCalendar plugin//NONSGML v2.0.0//EN
X-WR-TIMEZONE:America/Indiana/Indianapolis
X-WR-CALNAME:Upcoming Auctions
BEGIN:VEVENT
UID:143522
DTSTAMP:20250707T074500
DTSTART:20250707T074500
DTEND:20250715T194500
SUMMARY:Hidden Treasures Gallery #3130
LOCATION:1210 Cold Springs Rd\, Stuarts Draft\, VA 24477\, US
DESCRIPTION:Gold coin\, Birkenstock shoes\, furniture\, weathervanes\, antiq
 ue clocks\, porcelain signs and Lance retail jars. Bid your p
 rice! 
URL:https://www.enlistedauctions.com/auctions/detail/bw143522
SEQUENCE:1
END:VEVENT
END:VCALENDAR