BEGIN:VCALENDAR
VERSION:2.0
PRODID:-//ExpressionEngine Easy iCalendar plugin//NONSGML v2.0.0//EN
X-WR-TIMEZONE:America/Indiana/Indianapolis
X-WR-CALNAME:Upcoming Auctions
BEGIN:VEVENT
UID:143322
DTSTAMP:20250701T154800
DTSTART:20250701T154800
DTEND:20250715T200000
SUMMARY:Cold Springs Gallery #2130
LOCATION:1210 Cold Springs Rd\, Stuarts Draft\, VA 24477\, US
DESCRIPTION:Golf cart\, Kitchenaid mixer\, vintage comic books\, heavy duty
  safe\, Linda Patrick prints & tools for your bidding pleasur
 e! High bid wins!
URL:https://www.enlistedauctions.com/auctions/detail/bw143322
SEQUENCE:1
END:VEVENT
END:VCALENDAR