BEGIN:VCALENDAR
VERSION:2.0
PRODID:-//ExpressionEngine Easy iCalendar plugin//NONSGML v2.0.0//EN
X-WR-TIMEZONE:America/Indiana/Indianapolis
X-WR-CALNAME:Upcoming Auctions
BEGIN:VEVENT
UID:143177
DTSTAMP:20250629T112300
DTSTART:20250629T112300
DTEND:20250708T194500
SUMMARY:Hidden Treasures Gallery #3129
LOCATION:1210 Cold Springs Rd\, Stuarts Draft\, VA 24477\, US
DESCRIPTION:Stump grinder\, Virginia Metalcrafters items\, tools\, jewelry\,
  Le Creuset cookware set and other fantastic items from loca
 l estates and consignors! 
URL:https://www.enlistedauctions.com/auctions/detail/bw143177
SEQUENCE:1
END:VEVENT
END:VCALENDAR