BEGIN:VCALENDAR
VERSION:2.0
PRODID:-//ExpressionEngine Easy iCalendar plugin//NONSGML v2.0.0//EN
X-WR-TIMEZONE:America/New_York
X-WR-CALNAME:Upcoming Auctions
BEGIN:VEVENT
UID:142844
DTSTAMP:20250623T152600
DTSTART:20250623T152600
DTEND:20250722T130000
SUMMARY:Estate Home - Waynesboro\, VA
LOCATION:109 Tiffany Dr\, Waynesbro\, VA 22980\, US
DESCRIPTION:3 Bed\, 2.5 Bath Home – Waynesboro\, VA Selling to settle th
 e Wheeler Estate! This single-level home is just minutes fro
 m I-64\, shopping\, dining\, and more. Solid layout with tons o
 f potential. Bring your vision and make it shine in a great 
 neighborhood!
URL:https://www.enlistedauctions.com/auctions/detail/bw142844
SEQUENCE:1
END:VEVENT
END:VCALENDAR