BEGIN:VCALENDAR
VERSION:2.0
PRODID:-//ExpressionEngine Easy iCalendar plugin//NONSGML v2.0.0//EN
X-WR-TIMEZONE:America/Indiana/Indianapolis
X-WR-CALNAME:Upcoming Auctions
BEGIN:VEVENT
UID:142756
DTSTAMP:20250620T154100
DTSTART:20250620T154100
DTEND:20250701T194500
SUMMARY:Hidden Treasures Gallery #3128
LOCATION:1210 Cold Springs Rd\, Stuarts Draft\, VA 24477\, US
DESCRIPTION:PS4\, hay trolly\, Longaberger baskets with stands\, RCBS reloa
 ding die\, airsoft rifle\, western saddle\, Virginia Metalcraft
 ers & turkey calls give you a wide variety of items to choos
 e from! Bid your price - it all sells. 
URL:https://www.enlistedauctions.com/auctions/detail/bw142756
SEQUENCE:1
END:VEVENT
END:VCALENDAR