BEGIN:VCALENDAR
VERSION:2.0
PRODID:-//ExpressionEngine Easy iCalendar plugin//NONSGML v2.0.0//EN
X-WR-TIMEZONE:America/New_York
X-WR-CALNAME:Upcoming Auctions
BEGIN:VEVENT
UID:142665
DTSTAMP:20250619T095400
DTSTART:20250619T095400
DTEND:20250630T200000
SUMMARY:Tinkling Spring Gallery #228
LOCATION:2177 Tinkling Spring Rd\, Stuarts Draft\, VA 24477\, US
DESCRIPTION:Tiffany & Co. sterling silver bookmark\, furniture for the ho
 use\, a Bowflex to get that beach body ready\, coins for your 
 pockets\, tillers and tools for the garden along with DeWalt 
 tools and patio furniture! Bid your price - it all sells. 
URL:https://www.enlistedauctions.com/auctions/detail/bw142665
SEQUENCE:1
END:VEVENT
END:VCALENDAR