BEGIN:VCALENDAR
VERSION:2.0
PRODID:-//ExpressionEngine Easy iCalendar plugin//NONSGML v2.0.0//EN
X-WR-TIMEZONE:America/Indiana/Indianapolis
X-WR-CALNAME:Upcoming Auctions
BEGIN:VEVENT
UID:142569
DTSTAMP:20250617T153000
DTSTART:20250617T153000
DTEND:20250701T200000
SUMMARY:Cold Springs Gallery #2128
LOCATION:1210 Cold Springs Rd\, Stuarts Draft\, VA 24477\, US
DESCRIPTION:Nice variety of items in this one! Tools\, garden wagons\, Jim
  Shore figurines\, P. Buckley Moss prints\, Mid-century style 
 chairs\, nice glassware\, kitchen dishes & collectibles! 
URL:https://www.enlistedauctions.com/auctions/detail/bw142569
SEQUENCE:1
END:VEVENT
END:VCALENDAR