BEGIN:VCALENDAR
VERSION:2.0
PRODID:-//ExpressionEngine Easy iCalendar plugin//NONSGML v2.0.0//EN
X-WR-TIMEZONE:America/Indiana/Indianapolis
X-WR-CALNAME:Upcoming Auctions
BEGIN:VEVENT
UID:142524
DTSTAMP:20250617T085400
DTSTART:20250617T085400
DTEND:20250624T194500
SUMMARY:Hidden Treasures Gallery #3127
LOCATION:1210 Cold Springs Rd\, Stuarts Draft\, VA 24477\, US
DESCRIPTION:Cherry bedroom set\, Goebel figurines\, Lenox tea pots\, Troy-B
 ilt generator\, graded comics & other treasures are waiting f
 or you! What will you discover? Everything sells regardless 
 of price. 
URL:https://www.enlistedauctions.com/auctions/detail/bw142524
SEQUENCE:1
END:VEVENT
END:VCALENDAR