BEGIN:VCALENDAR
VERSION:2.0
PRODID:-//ExpressionEngine Easy iCalendar plugin//NONSGML v2.0.0//EN
X-WR-TIMEZONE:America/New_York
X-WR-CALNAME:Upcoming Auctions
BEGIN:VEVENT
UID:142283
DTSTAMP:20250612T103100
DTSTART:20250612T103100
DTEND:20250623T200000
SUMMARY:Tinkling Spring Gallery #227
LOCATION:2177 Tinkling Spring Rd\, Stuarts Draft\, VA 24477\, US
DESCRIPTION:A little something for everyone! Original Linda Patrick wate
 rcolor painting\, Snap-On tool cabinets\, Pfiel carving tools\,
  oak china cabinet\, Lincoln Arc welder\, Longaberger baskets 
 & lawn mowers all sell regardless of price. 
URL:https://www.enlistedauctions.com/auctions/detail/bw142283
SEQUENCE:1
END:VEVENT
END:VCALENDAR