BEGIN:VCALENDAR
VERSION:2.0
PRODID:-//ExpressionEngine Easy iCalendar plugin//NONSGML v2.0.0//EN
X-WR-TIMEZONE:America/New_York
X-WR-CALNAME:Upcoming Auctions
BEGIN:VEVENT
UID:142203
DTSTAMP:20250702T094900
DTSTART:20250702T094900
DTEND:20250724T200000
SUMMARY:Classic Vehicles and Motorcycles
LOCATION:1210 Cold Springs Rd\, Stuarts Draft\, VA 24477\, US
DESCRIPTION:They don’t make ’em like they used to… but lucky for y
 ou\, we’ve got the originals. Rev your engines and place yo
 ur bids on these beauties from across the decades:
URL:https://www.enlistedauctions.com/auctions/detail/bw142203
SEQUENCE:1
END:VEVENT
END:VCALENDAR