BEGIN:VCALENDAR
VERSION:2.0
PRODID:-//ExpressionEngine Easy iCalendar plugin//NONSGML v2.0.0//EN
X-WR-TIMEZONE:America/Indiana/Indianapolis
X-WR-CALNAME:Upcoming Auctions
BEGIN:VEVENT
UID:142200
DTSTAMP:20250611T092400
DTSTART:20250611T092400
DTEND:20250624T200000
SUMMARY:Cold Springs Gallery #2127
LOCATION:1210 Cold Springs Rd\, Stuarts Draft\, VA 24477\, US
DESCRIPTION:Hemp bedding\, electronic items\, Nintendo games\, modern furni
 ture\, & Lisa Geiman\, Linda Patrick and P. Buckley Moss print
 s along with a lot more! What will you discover this week? 
URL:https://www.enlistedauctions.com/auctions/detail/bw142200
SEQUENCE:1
END:VEVENT
END:VCALENDAR