BEGIN:VCALENDAR
VERSION:2.0
PRODID:-//ExpressionEngine Easy iCalendar plugin//NONSGML v2.0.0//EN
X-WR-TIMEZONE:America/Indiana/Indianapolis
X-WR-CALNAME:Upcoming Auctions
BEGIN:VEVENT
UID:141808
DTSTAMP:20250604T064300
DTSTART:20250604T064300
DTEND:20250617T200000
SUMMARY:Cold Springs Gallery #2126
LOCATION:1210 Cold Springs Rd\, Stuarts Draft\, VA 24477\, US
DESCRIPTION:Items from a Lexington\, VA estate are up for auction. Gold a
 nd sterling silver jewelry\, Jim Shore figurines\, Hallmark Ke
 epsake Ornaments\, household furniture and 850 more items sel
 l to the highest bidder! 
URL:https://www.enlistedauctions.com/auctions/detail/bw141808
SEQUENCE:1
END:VEVENT
END:VCALENDAR