BEGIN:VCALENDAR
VERSION:2.0
PRODID:-//ExpressionEngine Easy iCalendar plugin//NONSGML v2.0.0//EN
X-WR-TIMEZONE:America/Indiana/Indianapolis
X-WR-CALNAME:Upcoming Auctions
BEGIN:VEVENT
UID:141655
DTSTAMP:20250602T073600
DTSTART:20250602T073600
DTEND:20250610T194500
SUMMARY:Hidden Treasures Gallery #3125
LOCATION:1210 Cold Springs Rd\, Stuarts Draft\, VA 24477\, US
DESCRIPTION:Fine antiques\, John Deere pedal tractor\, tools and tool boxe
 s\, patio set and vinyl record are all up for auction! 
URL:https://www.enlistedauctions.com/auctions/detail/bw141655
SEQUENCE:1
END:VEVENT
END:VCALENDAR