BEGIN:VCALENDAR
VERSION:2.0
PRODID:-//ExpressionEngine Easy iCalendar plugin//NONSGML v2.0.0//EN
X-WR-TIMEZONE:America/New_York
X-WR-CALNAME:Upcoming Auctions
BEGIN:VEVENT
UID:141461
DTSTAMP:20250528T125400
DTSTART:20250528T125400
DTEND:20250609T200000
SUMMARY:Tinkling Spring Gallery #225
LOCATION:2177 Tinkling Spring RD\, Stuarts Draft\, VA 24477\, US
DESCRIPTION:Fishing kayak\, sterling silver dinnerware\, leather sofas\, 19
 th century collectibles and tintype photos are all selling t
 o the highest bidders! Don't miss out - bid today. 
URL:https://www.enlistedauctions.com/auctions/detail/bw141461
SEQUENCE:1
END:VEVENT
END:VCALENDAR