BEGIN:VCALENDAR
VERSION:2.0
PRODID:-//ExpressionEngine Easy iCalendar plugin//NONSGML v2.0.0//EN
X-WR-TIMEZONE:America/Indiana/Indianapolis
X-WR-CALNAME:Upcoming Auctions
BEGIN:VEVENT
UID:141398
DTSTAMP:20250527T150800
DTSTART:20250527T150800
DTEND:20250610T200000
SUMMARY:Cold Springs Gallery #2125
LOCATION:1210 Cold Springs Rd\, Stuarts Draft\, VA 24477\, US
DESCRIPTION:Another 500+ lot auction for your bidding pleasure! Collecti
 bles\, metal signs\, tools\, household furniture and decoration
 s! Bid your price today. 
URL:https://www.enlistedauctions.com/auctions/detail/bw141398
SEQUENCE:1
END:VEVENT
END:VCALENDAR