BEGIN:VCALENDAR
VERSION:2.0
PRODID:-//ExpressionEngine Easy iCalendar plugin//NONSGML v2.0.0//EN
X-WR-TIMEZONE:America/Indiana/Indianapolis
X-WR-CALNAME:Upcoming Auctions
BEGIN:VEVENT
UID:141308
DTSTAMP:20250526T134300
DTSTART:20250526T134300
DTEND:20250603T194500
SUMMARY:Hidden Treasures Gallery #3124
LOCATION:1210 Cold Springs Rd\, Stuarts Draft\, VA 24477\, US
DESCRIPTION:Quality knives\, Virginia Metalcrafters items\, furniture\, col
 lectibles and antiques are available. Bid now! 
URL:https://www.enlistedauctions.com/auctions/detail/bw141308
SEQUENCE:1
END:VEVENT
END:VCALENDAR