BEGIN:VCALENDAR
VERSION:2.0
PRODID:-//ExpressionEngine Easy iCalendar plugin//NONSGML v2.0.0//EN
X-WR-TIMEZONE:America/New_York
X-WR-CALNAME:Upcoming Auctions
BEGIN:VEVENT
UID:141002
DTSTAMP:20250520T161500
DTSTART:20250520T161500
DTEND:20250602T200000
SUMMARY:Tinkling Spring Gallery #224
LOCATION:2177 Tinkling Spring RD \, Stuarts Draft\, VA 24477\, US
DESCRIPTION:High quality furniture from Suter's & Henkel-Harris along wi
 th Byer's Choice carolers\, tools\, decorative items and print
 s from P. Buckley Moss
URL:https://www.enlistedauctions.com/auctions/detail/bw141002
SEQUENCE:1
END:VEVENT
END:VCALENDAR