BEGIN:VCALENDAR
VERSION:2.0
PRODID:-//ExpressionEngine Easy iCalendar plugin//NONSGML v2.0.0//EN
X-WR-TIMEZONE:America/Indiana/Indianapolis
X-WR-CALNAME:Upcoming Auctions
BEGIN:VEVENT
UID:140987
DTSTAMP:20250520T152500
DTSTART:20250520T152500
DTEND:20250603T200000
SUMMARY:Cold Springs Gallery #2124
LOCATION:1210 Cold Springs Rd\, Stuarts Draft\, VA 24477\, US
DESCRIPTION:Items from a local estate. Nice and clean antiques\, tools\, D
 epartment 56 Snowbabies and more! 
URL:https://www.enlistedauctions.com/auctions/detail/bw140987
SEQUENCE:1
END:VEVENT
END:VCALENDAR