BEGIN:VCALENDAR
VERSION:2.0
PRODID:-//ExpressionEngine Easy iCalendar plugin//NONSGML v2.0.0//EN
X-WR-TIMEZONE:America/Indiana/Indianapolis
X-WR-CALNAME:Upcoming Auctions
BEGIN:VEVENT
UID:140841
DTSTAMP:20250519T074400
DTSTART:20250519T074400
DTEND:20250527T194500
SUMMARY:Hidden Treasures Gallery #3123
LOCATION:1210 Cold Springs Rd\, Stuarts Draft\, VA 24477\, US
DESCRIPTION:Nice variety of items up for auction: ATV\, tools\, furs\, col
 lectibles\, furniture and more! 
URL:https://www.enlistedauctions.com/auctions/detail/bw140841
SEQUENCE:1
END:VEVENT
END:VCALENDAR