BEGIN:VCALENDAR
VERSION:2.0
PRODID:-//ExpressionEngine Easy iCalendar plugin//NONSGML v2.0.0//EN
X-WR-TIMEZONE:America/New_York
X-WR-CALNAME:Upcoming Auctions
BEGIN:VEVENT
UID:140644
DTSTAMP:20250514T094500
DTSTART:20250514T094500
DTEND:20250612T130000
SUMMARY:Augusta County Real Estate
LOCATION:417 Dooms Crossing\, Waynesboro\, VA 22980\, US
DESCRIPTION:Estate Auction – 2 bed\, 2.5 bath home on 0.88± acres in A
 ugusta County\, VA. Features include vaulted ceilings\, expose
 d beams\, a 2-car carport\, shed/shop\, deck with fish ponds\, a
 nd a partially finished basement with extra potential.
URL:https://www.enlistedauctions.com/auctions/detail/bw140644
SEQUENCE:1
END:VEVENT
END:VCALENDAR