BEGIN:VCALENDAR
VERSION:2.0
PRODID:-//ExpressionEngine Easy iCalendar plugin//NONSGML v2.0.0//EN
X-WR-TIMEZONE:America/Indiana/Indianapolis
X-WR-CALNAME:Upcoming Auctions
BEGIN:VEVENT
UID:140616
DTSTAMP:20250513T164000
DTSTART:20250513T164000
DTEND:20250527T200000
SUMMARY:Cold Springs Gallery #2123
LOCATION:1210 Cold Springs Rd\, Stuarts Draft\, VA 24477\, US
DESCRIPTION:Items from the Brown estate of Mt. Sidney\, VA are up for auc
 tion! Over 740 lots featuring tools\, bike frames\, furniture\,
  toys\, bench vises & Shopsmiths! Everything sells regardless
  of price so start bidding now! 
URL:https://www.enlistedauctions.com/auctions/detail/bw140616
SEQUENCE:1
END:VEVENT
END:VCALENDAR