BEGIN:VCALENDAR
VERSION:2.0
PRODID:-//ExpressionEngine Easy iCalendar plugin//NONSGML v2.0.0//EN
X-WR-TIMEZONE:America/New_York
X-WR-CALNAME:Upcoming Auctions
BEGIN:VEVENT
UID:140535
DTSTAMP:20250512T000000
DTSTART:20250512T000000
DTEND:20250520T200000
SUMMARY:Storage Unit Contents
LOCATION:11 Kiley LN\, Stuarts Draft\, VA 24477\, US
DESCRIPTION:Location: Rent Anytime Storage\, 11 Kiley Ln\, Stuarts Draft\, 
 Va Deadlines: Unit must be emptied and swept by Wed\, May 28
  at 8 PM.  Contact: info@enlistedauctions.com or 540-337-34
 46 Preview: Not available 10% buyer's premium Sold AS IS. 
URL:https://www.enlistedauctions.com/auctions/detail/bw140535
SEQUENCE:1
END:VEVENT
END:VCALENDAR