BEGIN:VCALENDAR
VERSION:2.0
PRODID:-//ExpressionEngine Easy iCalendar plugin//NONSGML v2.0.0//EN
X-WR-TIMEZONE:America/New_York
X-WR-CALNAME:Upcoming Auctions
BEGIN:VEVENT
UID:140534
DTSTAMP:20250514T171700
DTSTART:20250514T171700
DTEND:20250528T200000
SUMMARY:Firearms - May 2025
LOCATION:2177 Tinkling Spring Rd\, Stuarts Draft\, VA 24477\, US
DESCRIPTION:We are proud to offer another firearms auction for you to co
 nsider. Nice selection of firearms from Parker\, Weatherby\, T
 ikka\, Remington\, Winchester\, Ruger\, Glock\, Smith & Wesson\, A
 nderson\, SCCY and Browning! 
URL:https://www.enlistedauctions.com/auctions/detail/bw140534
SEQUENCE:1
END:VEVENT
END:VCALENDAR