BEGIN:VCALENDAR
VERSION:2.0
PRODID:-//ExpressionEngine Easy iCalendar plugin//NONSGML v2.0.0//EN
X-WR-TIMEZONE:America/Indiana/Indianapolis
X-WR-CALNAME:Upcoming Auctions
BEGIN:VEVENT
UID:140470
DTSTAMP:20250512T074400
DTSTART:20250512T074400
DTEND:20250520T194500
SUMMARY:Hidden Treasures Gallery #3122
LOCATION:1210 Cold Springs Rd\, Stuarts Draft\, VA 24477\, US
DESCRIPTION:Nice collection of items up for auction! Barrister bookcase\,
  tools\, lawnmower lift\, P. Buckley Moss print & mid century 
 dining table. Bid your price - it all sells. 
URL:https://www.enlistedauctions.com/auctions/detail/bw140470
SEQUENCE:1
END:VEVENT
END:VCALENDAR