BEGIN:VCALENDAR
VERSION:2.0
PRODID:-//ExpressionEngine Easy iCalendar plugin//NONSGML v2.0.0//EN
X-WR-TIMEZONE:America/Indiana/Indianapolis
X-WR-CALNAME:Upcoming Auctions
BEGIN:VEVENT
UID:140071
DTSTAMP:20250502T120000
DTSTART:20250502T120000
DTEND:20250513T200000
SUMMARY:Fine Jewelry
LOCATION:1210 Cold Springs Rd\, Stuarts Draft\, VA 24477\, US
DESCRIPTION:A private collection of fine jewelry is being sold in this o
 nline auction. Click. Bid. Be Happy.
URL:https://www.enlistedauctions.com/auctions/detail/bw140071
SEQUENCE:1
END:VEVENT
END:VCALENDAR