BEGIN:VCALENDAR
VERSION:2.0
PRODID:-//ExpressionEngine Easy iCalendar plugin//NONSGML v2.0.0//EN
X-WR-TIMEZONE:America/New_York
X-WR-CALNAME:Upcoming Auctions
BEGIN:VEVENT
UID:139927
DTSTAMP:20250501T114200
DTSTART:20250501T114200
DTEND:20250512T200000
SUMMARY:Tinkling Spring Gallery #221
LOCATION:2177 Tinkling Spring RD \, Stuarts Draft\, VA 24477\, US
DESCRIPTION:Household items\, Virginia license plates\, LG OLED Tv\, patio 
 furniture\, Elvis collectibles\, tools and more are all sellin
 g regardless of price! 
URL:https://www.enlistedauctions.com/auctions/detail/bw139927
SEQUENCE:1
END:VEVENT
END:VCALENDAR