BEGIN:VCALENDAR
VERSION:2.0
PRODID:-//ExpressionEngine Easy iCalendar plugin//NONSGML v2.0.0//EN
X-WR-TIMEZONE:America/Indiana/Indianapolis
X-WR-CALNAME:Upcoming Auctions
BEGIN:VEVENT
UID:139794
DTSTAMP:20250429T154900
DTSTART:20250429T154900
DTEND:20250513T200000
SUMMARY:Cold Springs Gallery #2121
LOCATION:1210 Cold Springs Rd\, Stuarts Draft\, VA 24477\, US
DESCRIPTION:Leather furniture\, tools\, collectibles and other household i
 tems are up for auction. Bid your price - everything sells!
URL:https://www.enlistedauctions.com/auctions/detail/bw139794
SEQUENCE:1
END:VEVENT
END:VCALENDAR