BEGIN:VCALENDAR
VERSION:2.0
PRODID:-//ExpressionEngine Easy iCalendar plugin//NONSGML v2.0.0//EN
X-WR-TIMEZONE:America/Indiana/Indianapolis
X-WR-CALNAME:Upcoming Auctions
BEGIN:VEVENT
UID:139653
DTSTAMP:20250428T074000
DTSTART:20250428T074000
DTEND:20250506T194500
SUMMARY:Hidden Treasures Gallery #3120
LOCATION:1210 Cold Springs Rd\, Stuarts Draft\, VA 24477\, US
DESCRIPTION:Antique clocks\, Hot Wheels cars\, farm implements and househo
 ld items are all up for bid! 
URL:https://www.enlistedauctions.com/auctions/detail/bw139653
SEQUENCE:1
END:VEVENT
END:VCALENDAR